BEGIN:VCALENDAR
VERSION:2.0
PRODID:-//THE POSTHUMANITIES HUB - ECPv6.15.20//NONSGML v1.0//EN
CALSCALE:GREGORIAN
METHOD:PUBLISH
X-WR-CALNAME:THE POSTHUMANITIES HUB
X-ORIGINAL-URL:https://posthumanitieshub.net
X-WR-CALDESC:Events for THE POSTHUMANITIES HUB
REFRESH-INTERVAL;VALUE=DURATION:PT1H
X-Robots-Tag:noindex
X-PUBLISHED-TTL:PT1H
BEGIN:VTIMEZONE
TZID:Europe/Paris
BEGIN:DAYLIGHT
TZOFFSETFROM:+0100
TZOFFSETTO:+0200
TZNAME:CEST
DTSTART:20250330T010000
END:DAYLIGHT
BEGIN:STANDARD
TZOFFSETFROM:+0200
TZOFFSETTO:+0100
TZNAME:CET
DTSTART:20251026T010000
END:STANDARD
BEGIN:DAYLIGHT
TZOFFSETFROM:+0100
TZOFFSETTO:+0200
TZNAME:CEST
DTSTART:20260329T010000
END:DAYLIGHT
BEGIN:STANDARD
TZOFFSETFROM:+0200
TZOFFSETTO:+0100
TZNAME:CET
DTSTART:20261025T010000
END:STANDARD
BEGIN:DAYLIGHT
TZOFFSETFROM:+0100
TZOFFSETTO:+0200
TZNAME:CEST
DTSTART:20270328T010000
END:DAYLIGHT
BEGIN:STANDARD
TZOFFSETFROM:+0200
TZOFFSETTO:+0100
TZNAME:CET
DTSTART:20271031T010000
END:STANDARD
END:VTIMEZONE
BEGIN:VEVENT
DTSTART;TZID=Europe/Paris:20260423T133000
DTEND;TZID=Europe/Paris:20260423T150000
DTSTAMP:20260421T150325
CREATED:20260420T124318Z
LAST-MODIFIED:20260420T124337Z
UID:7252-1776951000-1776956400@posthumanitieshub.net
SUMMARY:The Posthumanities Hub Webinar 23/04: Hillevi Lenz Taguchi. The Post-Qualitative Turn and Feminist Theory
DESCRIPTION:Hillevi Lenz Taguchi\nWelcome to the next Posthumanities Hub webinar with Hillevi Lenz Taguchi\, in conversation with our very own Cecilia Åsberg. They’ll be discussing the “post-qualitative turn” in the educational sciences. Where do post-qualitative approaches intersect with feminist theory? Or with posthumanist theory? With the posthumanities? Come and ask the kindest\, most wip smart educational philosopher you have ever met\, and get learned! WELCOME 23 APRIL YOU LOT – teachers\, students\, methodology-nerds and field philosophers\, and everybody!!! \nHillevi Lenz Taguchi is Professor of Child and Youth Studies and Early Childhood Education at Stockholm University. Hillevi has a background in literature and the behavioral sciences and a PhD in Education (2001). She was promoted full professor of Education in 2011\, and recruited professor of Child and Youth Studies and Early Childhood education in 2013 at Stockholm University. Her research interests follow two trajectories: First\, a longstanding interest in praxis-based and collaborative work with preschool teachers\, children and their families in preschools to enhance preschool quality and children’s development and learning. Second\, a strong interest in philosophy\, science theory and social science methodologies. The last 20 years\, these dual and parallel interests have taken her work into theoretical developments and transgressive methodologies as part of Posthumanist\, Feminist New Materialist and Post Qualitative approaches; while simultaneously being granted funding as PI for a large-scale interdisciplinary research\, framed as a randomized control trial engaging 332 children\, their families and educators. This pedagogical intervention project entailed both neuroscience (EEG/ERP) measures of selective auditory attention\, and emergent transdisciplinary investigations with children. The project is described and discussed in an OA book coauthored with Linnea Bodén “Development and Postdevelomentalism in studies on\, to\, with\, for\, by young children” (2025)\, Palgrave Macmillan. Hillevi’s current focus is on developments of sustainable multi-methodological praxis-based research-practices\, which also feature evaluations of children’s development and learning based on evidence-based knowledge. As a consequence of the above experiences\, a specific research-interest has evolved in the shifting roles and positions of different forms of disciplinary knowledge in and outside of academia: especially knowledge that concern children’s development and learning\, which in Sweden had had consequences for both research-practices and teacher education-reforms.
URL:https://posthumanitieshub.net/event/the-posthumanities-hub-webinar-hillevi-lenz-taguchi-the-post-qualitative-turn-and-feminist-theory/
LOCATION:Zoom
CATEGORIES:Webinar
END:VEVENT
END:VCALENDAR